Workbook

Sheet Rekapitulácia stavby
A1: 2012 | D1: Hárok obsahuje: | K1: 1) Súhrnný list stavby | W1: 2) Rekapitulácia objektov | BA1: 2.0 | BT1: False | BU1: False
C2: optimalizované pre tlač zostáv vo formáte A4 - na výšku | AR2: >> skryté stĺpce << | BS2: 0,01 | BT2: 20
BS3: 0,01 | BT3: 20
C4: SÚHRNNÝ LIST STAVBY | AS4: v --- nižšie sa nachádzajú doplnkové a pomocné údaje k zostavám --- v | BE4: Návod na vyplnenie | BS4: 0,001
D5: Kód: | K5: 201860 | BE5: Meniť je možné iba bunky so žltým podfarbením!_x000D_ _x000D_ 1) na prvom liste Rekapitulácie stavby vyplňte v zostave_x000D_ _x000D_ a) Súhrnný list_x000D_ - údaje o Zhotoviteľovi_x000D_ (prenesú sa do ostatných zostáv aj v iných listoch)_x000D_ _x000D_ b) Rekapitulácia objektov_x000D_ - potrebné Ostatné náklady_x000D_ _x000D_ 2) na vybraných listoch vyplňte v zostave_x000D_ _x000D_ a) Krycí list_x000D_ - údaje o Zhotoviteľovi, pokiaľ sa líšia od údajov o Zhotoviteľovi na Súhrnnom liste_x000D_ (údaje se prenesú do ostatných zostav v danom liste)_x000D_ _x000D_ b) Rekapitulácia rozpočtu_x000D_ - potrebné Ostatné náklady_x000D_ _x000D_ c) Celkové náklady za stavbu_x000D_ - ceny na položkách_x000D_ - množstvo, pokiaľ má žlté podfarbenie_x000D_ - a v prípade potreby poznámku (tá je v skrytom stĺpci) | BS5: 0,01
D6: Stavba: | K6: „Odstránenie nezákonne umiestneného komunálneho odpadu” | BS6: 0,01
D7: JKSO: | AK7: KS: | BS7: 0,01
D8: Miesto: | AK8: Dátum: | AN8: 4. 6. 2018 | BS8: 0,01
BS9: 0,01
D10: Objednávateľ: | AK10: IČO: | BS10: 0,01
E11: Obec Slavošovce | AK11: IČO DPH: | BS11: 0,01
BS12: 0,01
D13: Zhotoviteľ: | AK13: IČO: | AN13: Vyplň údaj | BS13: 0,01
E14: Vyplň údaj | AK14: IČO DPH: | AN14: Vyplň údaj | BS14: 0,01
BS15: False
D16: Projektant: | AK16: IČO: | BS16: False
AK17: IČO DPH: | BS17: True
BS18: 0,01
D19: Spracovateľ: | AK19: IČO: | BS19: 0,01
AK20: IČO DPH:
D22: Poznámka:
D26: Náklady z rozpočtov | AK26: =ROUND(AG87,2) -> 0
D27: Ostatné náklady zo súhrnného listu | AK27: =ROUND(AG90,2) -> 0
D29: Cena bez DPH | AK29: =ROUND(AK26+AK27,2) -> 0
D31: DPH | F31: základná | L31: 0.2 | T31: z | W31: =ROUND(AZ87+SUM(CD91:CD95),2) -> 0 | AK31: =ROUND(AV87+SUM(BY91:BY95),2) -> 0
F32: znížená | L32: 0.2 | T32: z | W32: =ROUND(BA87+SUM(CE91:CE95),2) -> 0 | AK32: =ROUND(AW87+SUM(BZ91:BZ95),2) -> 0
F33: zákl. prenesená | L33: 0.2 | T33: z | W33: =ROUND(BB87+SUM(CF91:CF95),2) -> 0 | AK33: 0
F34: zníž. prenesená | L34: 0.2 | T34: z | W34: =ROUND(BC87+SUM(CG91:CG95),2) -> 0 | AK34: 0
F35: nulová | L35: 0 | T35: z | W35: =ROUND(BD87+SUM(CH91:CH95),2) -> 0 | AK35: 0
D37: Cena s DPH | T37: v | X37: EUR | AK37: =SUM(AK29:AK35) -> 0
D49: Projektant | AC49: Spracovateľ
D58: Dátum a podpis: | R58: Pečiatka | AC58: Dátum a podpis: | AM58: Pečiatka
D60: Objednávateľ | AC60: Zhotoviteľ
D69: Dátum a podpis: | R69: Pečiatka | AC69: Dátum a podpis: | AM69: Pečiatka
C76: REKAPITULÁCIA OBJEKTOV STAVBY
C77: Kód: | L77: =K5 -> 201860
C78: Stavba: | L78: =K6 -> „Odstránenie nezákonne umiestneného komunálneho odpadu”
C80: Miesto: | L80: =IF(K8="","",K8) | AI80: Dátum: | AM80: =IF(AN8= "","",AN8) -> 4. 6. 2018
C82: Objednávateľ: | L82: =IF(E11= "","",E11) -> Obec Slavošovce | AI82: Projektant: | AM82: =IF(E17="","",E17) | AS82: Informatívne údaje z listov zákaziek
C83: Zhotoviteľ: | L83: =IF(E14= "Vyplň údaj","",E14) | AI83: Spracovateľ: | AM83: =IF(E20="","",E20)
C85: Kód | I85: Objekt | AG85: Cena bez DPH [EUR] | AN85: Cena s DPH [EUR] | AS85: z toho Ostat._x000D_ náklady [EUR] | AT85: DPH [EUR] | AU85: Normohodiny [h] | AV85: DPH základná [EUR] | AW85: DPH znížená [EUR] | AX85: DPH základná prenesená_x000D_ [EUR] | AY85: DPH znížená prenesená_x000D_ [EUR] | AZ85: Základňa_x000D_ DPH základná | BA85: Základňa_x000D_ DPH znížená | BB85: Základňa_x000D_ DPH zákl. prenesená | BC85: Základňa_x000D_ DPH zníž. prenesená | BD85: Základňa_x000D_ DPH nulová
C87: 1) Náklady z rozpočtov | AG87: =ROUND(AG88,2) -> 0 | AN87: =SUM(AG87,AT87) -> 0 | AS87: =ROUND(AS88,2) -> 0 | AT87: =ROUND(SUM(AV87:AW87),2) -> 0 | AU87: =ROUND(AU88,5) -> 0 | AV87: =ROUND(AZ87*L31,2) -> 0 | AW87: =ROUND(BA87*L32,2) -> 0 | AX87: =ROUND(BB87*L31,2) -> 0 | AY87: =ROUND(BC87*L32,2) -> 0 | AZ87: =ROUND(AZ88,2) -> 0 | BA87: =ROUND(BA88,2) -> 0 | BB87: =ROUND(BB88,2) -> 0 | BC87: =ROUND(BC88,2) -> 0 | BD87: =ROUND(BD88,2) -> 0 | BS87: D | BT87: 0 | BV87: IMPORT | BW87: {c78f5645-6fcd-4636-b986-11755a5fb057} | BX87: {00000000-0000-0000-0000-000000000000}
A88: / | D88: 201860 | J88: Sanácia skladky v obci Slavošovce | AG88: ='201860 - Sanácia skladky ...'!M29 -> 0 | AN88: =SUM(AG88,AT88) -> 0 | AS88: ='201860 - Sanácia skladky ...'!M27 -> 0 | AT88: =ROUND(SUM(AV88:AW88),2) -> 0 | AU88: ='201860 - Sanácia skladky ...'!W115 -> 0 | AV88: ='201860 - Sanácia skladky ...'!M31 -> 0 | AW88: ='201860 - Sanácia skladky ...'!M32 -> 0 | AX88: ='201860 - Sanácia skladky ...'!M33 -> 0 | AY88: ='201860 - Sanácia skladky ...'!M34 -> 0 | AZ88: ='201860 - Sanácia skladky ...'!H31 -> 0 | BA88: ='201860 - Sanácia skladky ...'!H32 -> 0 | BB88: ='201860 - Sanácia skladky ...'!H33 -> 0 | BC88: ='201860 - Sanácia skladky ...'!H34 -> 0 | BD88: ='201860 - Sanácia skladky ...'!H35 -> 0 | BT88: 1 | BU88: ###NOINSERT### | BV88: IMPORT | BW88: {c78f5645-6fcd-4636-b986-11755a5fb057} | BX88: {00000000-0000-0000-0000-000000000000}
C90: 2) Ostatné náklady zo súhrnného listu | AG90: =ROUND(SUM(AG91:AG94),2) -> 0 | AN90: =ROUND(SUM(AN91:AN94),2) -> 0 | AS90: Percent. zadanie_x000D_ [% nákladov rozpočtu] | AT90: Zaradenie nákladov | AU90: DPH | AV90: DPH [EUR]
D91: Ostatné náklady | AG91: =ROUND(AG87*AS91,2) -> 0 | AN91: =ROUND(AG91+AV91,2) -> 0 | AS91: 0 | AT91: stavebná časť | AU91: základná | AV91: =ROUND(IF(AU91="základná",AG91*L31,IF(AU91="znížená",AG91*L32,0)),2) -> 0 | BV91: OSTATNENAKLADY | BY91: =IF(AU91="základná",AV91,0) -> 0 | BZ91: =IF(AU91="znížená",AV91,0) -> 0 | CA91: 0 | CB91: 0 | CC91: 0 | CD91: =IF(AU91="základná",AG91,0) -> 0 | CE91: =IF(AU91="znížená",AG91,0) -> 0 | CF91: =IF(AU91="zákl. prenesená",AG91,0) -> 0 | CG91: =IF(AU91="zníž. prenesená",AG91,0) -> 0 | CH91: =IF(AU91="nulová",AG91,0) -> 0 | CI91: =IF(AU91="základná",1,IF(AU91="znížená",2,IF(AU91="zákl. prenesená",4,IF(AU91="zníž. prenesená",5,3)))) -> 1 | CJ91: =IF(AT91="stavebná časť",1,IF(8891="investičná časť",2,3)) -> 1 | CK91: =IF(D91="Vyplň vlastné","","x") -> x
D92: Vyplň vlastné | AG92: =AG87*AS92 -> 0 | AN92: =AG92+AV92 -> 0 | AS92: 0 | AT92: stavebná časť | AU92: základná | AV92: =ROUND(IF(AU92="nulová",0,IF(OR(AU92="základná",AU92="zákl. prenesená"),AG92*L31,AG92*L32)),2) -> 0 | BV92: OSTATNENAKLADYVLASTNE | BY92: =IF(AU92="základná",AV92,0) -> 0 | BZ92: =IF(AU92="znížená",AV92,0) -> 0 | CA92: =IF(AU92="zákl. prenesená",AV92,0) -> 0 | CB92: =IF(AU92="zníž. prenesená",AV92,0) -> 0 | CC92: =IF(AU92="nulová",AV92,0) -> 0 | CD92: =IF(AU92="základná",AG92,0) -> 0 | CE92: =IF(AU92="znížená",AG92,0) -> 0 | CF92: =IF(AU92="zákl. prenesená",AG92,0) -> 0 | CG92: =IF(AU92="zníž. prenesená",AG92,0) -> 0 | CH92: =IF(AU92="nulová",AG92,0) -> 0 | CI92: =IF(AU92="základná",1,IF(AU92="znížená",2,IF(AU92="zákl. prenesená",4,IF(AU92="zníž. prenesená",5,3)))) -> 1 | CJ92: =IF(AT92="stavebná časť",1,IF(8892="investičná časť",2,3)) -> 1 | CK92: =IF(D92="Vyplň vlastné","","x")
D93: Vyplň vlastné | AG93: =AG87*AS93 -> 0 | AN93: =AG93+AV93 -> 0 | AS93: 0 | AT93: stavebná časť | AU93: základná | AV93: =ROUND(IF(AU93="nulová",0,IF(OR(AU93="základná",AU93="zákl. prenesená"),AG93*L31,AG93*L32)),2) -> 0 | BV93: OSTATNENAKLADYVLASTNE | BY93: =IF(AU93="základná",AV93,0) -> 0 | BZ93: =IF(AU93="znížená",AV93,0) -> 0 | CA93: =IF(AU93="zákl. prenesená",AV93,0) -> 0 | CB93: =IF(AU93="zníž. prenesená",AV93,0) -> 0 | CC93: =IF(AU93="nulová",AV93,0) -> 0 | CD93: =IF(AU93="základná",AG93,0) -> 0 | CE93: =IF(AU93="znížená",AG93,0) -> 0 | CF93: =IF(AU93="zákl. prenesená",AG93,0) -> 0 | CG93: =IF(AU93="zníž. prenesená",AG93,0) -> 0 | CH93: =IF(AU93="nulová",AG93,0) -> 0 | CI93: =IF(AU93="základná",1,IF(AU93="znížená",2,IF(AU93="zákl. prenesená",4,IF(AU93="zníž. prenesená",5,3)))) -> 1 | CJ93: =IF(AT93="stavebná časť",1,IF(8893="investičná časť",2,3)) -> 1 | CK93: =IF(D93="Vyplň vlastné","","x")
D94: Vyplň vlastné | AG94: =AG87*AS94 -> 0 | AN94: =AG94+AV94 -> 0 | AS94: 0 | AT94: stavebná časť | AU94: základná | AV94: =ROUND(IF(AU94="nulová",0,IF(OR(AU94="základná",AU94="zákl. prenesená"),AG94*L31,AG94*L32)),2) -> 0 | BV94: OSTATNENAKLADYVLASTNE | BY94: =IF(AU94="základná",AV94,0) -> 0 | BZ94: =IF(AU94="znížená",AV94,0) -> 0 | CA94: =IF(AU94="zákl. prenesená",AV94,0) -> 0 | CB94: =IF(AU94="zníž. prenesená",AV94,0) -> 0 | CC94: =IF(AU94="nulová",AV94,0) -> 0 | CD94: =IF(AU94="základná",AG94,0) -> 0 | CE94: =IF(AU94="znížená",AG94,0) -> 0 | CF94: =IF(AU94="zákl. prenesená",AG94,0) -> 0 | CG94: =IF(AU94="zníž. prenesená",AG94,0) -> 0 | CH94: =IF(AU94="nulová",AG94,0) -> 0 | CI94: =IF(AU94="základná",1,IF(AU94="znížená",2,IF(AU94="zákl. prenesená",4,IF(AU94="zníž. prenesená",5,3)))) -> 1 | CJ94: =IF(AT94="stavebná časť",1,IF(8894="investičná časť",2,3)) -> 1 | CK94: =IF(D94="Vyplň vlastné","","x")
C96: Celkové náklady za stavbu 1) + 2) | AG96: =ROUND(AG87+AG90,2) -> 0 | AN96: =AN87+AN90 -> 0

Sheet 201860 - Sanácia skladky ...
D1: Hárok obsahuje: | F1: 1) Krycí list rozpočtu | H1: 2) Rekapitulácia rozpočtu | L1: 3) Rozpočet | O1: Späť na hárok: | S1: Rekapitulácia stavby
C2: optimalizované pre tlač zostáv vo formáte A4 - na výšku | S2: >> skryté stĺpce << | AT2: {c78f5645-6fcd-4636-b986-11755a5fb057}
AT3: 0
C4: KRYCÍ LIST ROZPOČTU | T4: v --- nižšie sa nachádzajú doplnkové a pomocné údaje k zostavám --- v | AT4: False
D6: Stavba: | F6: „Odstránenie nezákonne umiestneného komunálneho odpadu”
D7: JKSO: | M7: KS:
D8: Miesto: | M8: Dátum: | O8: ='Rekapitulácia stavby'!AN8 -> 4. 6. 2018
D10: Objednávateľ: | M10: IČO:
E11: Obec Slavošovce | M11: IČO DPH:
D13: Zhotoviteľ: | M13: IČO: | O13: =IF('Rekapitulácia stavby'!AN13="","",'Rekapitulácia stavby'!AN13) -> Vyplň údaj
E14: =IF('Rekapitulácia stavby'!E14="","",'Rekapitulácia stavby'!E14) -> Vyplň údaj | M14: IČO DPH: | O14: =IF('Rekapitulácia stavby'!AN14="","",'Rekapitulácia stavby'!AN14) -> Vyplň údaj
D16: Projektant: | M16: IČO: | O16: =IF('Rekapitulácia stavby'!AN16="","",'Rekapitulácia stavby'!AN16)
E17: =IF('Rekapitulácia stavby'!E17="","",'Rekapitulácia stavby'!E17) | M17: IČO DPH: | O17: =IF('Rekapitulácia stavby'!AN17="","",'Rekapitulácia stavby'!AN17)
D19: Spracovateľ: | M19: IČO: | O19: =IF('Rekapitulácia stavby'!AN19="","",'Rekapitulácia stavby'!AN19)
E20: =IF('Rekapitulácia stavby'!E20="","",'Rekapitulácia stavby'!E20) | M20: IČO DPH: | O20: =IF('Rekapitulácia stavby'!AN20="","",'Rekapitulácia stavby'!AN20)
D22: Poznámka:
D26: Náklady z rozpočtu | M26: =N87 -> 0
D27: Ostatné náklady | M27: =N91 -> 0
D29: Cena bez DPH | M29: =ROUND(M26+M27,2) -> 0
D31: DPH | E31: základná | F31: 0.2 | G31: z | H31: =ROUND((((SUM(BE91:BE98)+SUM(BE115:BE122))+SUM(BE124:BE128))),2) -> 0 | M31: =ROUND(((ROUND((SUM(BE91:BE98)+SUM(BE115:BE122)), 2)*F31)+SUM(BE124:BE128)*F31),2) -> 0
E32: znížená | F32: 0.2 | G32: z | H32: =ROUND((((SUM(BF91:BF98)+SUM(BF115:BF122))+SUM(BF124:BF128))),2) -> 0 | M32: =ROUND(((ROUND((SUM(BF91:BF98)+SUM(BF115:BF122)), 2)*F32)+SUM(BF124:BF128)*F32),2) -> 0
E33: zákl. prenesená | F33: 0.2 | G33: z | H33: =ROUND((((SUM(BG91:BG98)+SUM(BG115:BG122))+SUM(BG124:BG128))),2) -> 0 | M33: 0
E34: zníž. prenesená | F34: 0.2 | G34: z | H34: =ROUND((((SUM(BH91:BH98)+SUM(BH115:BH122))+SUM(BH124:BH128))),2) -> 0 | M34: 0
E35: nulová | F35: 0 | G35: z | H35: =ROUND((((SUM(BI91:BI98)+SUM(BI115:BI122))+SUM(BI124:BI128))),2) -> 0 | M35: 0
D37: Cena s DPH | G37: v | H37: EUR | L37: =SUM(M29:M35) -> 0
D50: Projektant | J50: Spracovateľ
D59: Dátum a podpis: | G59: Pečiatka | J59: Dátum a podpis: | N59: Pečiatka
D61: Objednávateľ | J61: Zhotoviteľ
D70: Dátum a podpis: | G70: Pečiatka | J70: Dátum a podpis: | N70: Pečiatka
C76: REKAPITULÁCIA ROZPOČTU
C78: Stavba: | F78: =F6 -> „Odstránenie nezákonne umiestneného komunálneho odpadu”
C80: Miesto: | F80: =F8 | K80: Dátum: | M80: =IF(O8="","",O8) -> 4. 6. 2018
C82: Objednávateľ: | F82: =E11 -> Obec Slavošovce | K82: Projektant: | M82: =E17
C83: Zhotoviteľ: | F83: =IF(E14="","",E14) -> Vyplň údaj | K83: Spracovateľ: | M83: =E20
C85: Kód - Popis | N85: Cena celkom [EUR]
C87: 1) Náklady z rozpočtu | N87: =N115 -> 0 | AU87: -1
D88: D1 - Práce na sanácii nelegálnej skládky | N88: =N116 -> 0
D89: VP - Práce naviac | N89: =N123 -> 0
C91: 2) Ostatné náklady | N91: =ROUND(N92+N93+N94+N95+N96+N97,2) -> 0 | U91: DPH
D92: GZS | N92: =ROUND(N87*T92,2) -> 0 | U92: znížená | AY92: VRN | BE92: =IF(U92="základná",N92,0) -> 0 | BF92: =IF(U92="znížená",N92,0) -> 0 | BG92: =IF(U92="zákl. prenesená",N92,0) -> 0 | BH92: =IF(U92="zníž. prenesená",N92,0) -> 0 | BI92: =IF(U92="nulová",N92,0) -> 0 | BJ92: 2
D93: Projektové práce | N93: =ROUND(N87*T93,2) -> 0 | U93: znížená | AY93: VRN | BE93: =IF(U93="základná",N93,0) -> 0 | BF93: =IF(U93="znížená",N93,0) -> 0 | BG93: =IF(U93="zákl. prenesená",N93,0) -> 0 | BH93: =IF(U93="zníž. prenesená",N93,0) -> 0 | BI93: =IF(U93="nulová",N93,0) -> 0 | BJ93: 2
D94: Sťažené podmienky | N94: =ROUND(N87*T94,2) -> 0 | U94: znížená | AY94: VRN | BE94: =IF(U94="základná",N94,0) -> 0 | BF94: =IF(U94="znížená",N94,0) -> 0 | BG94: =IF(U94="zákl. prenesená",N94,0) -> 0 | BH94: =IF(U94="zníž. prenesená",N94,0) -> 0 | BI94: =IF(U94="nulová",N94,0) -> 0 | BJ94: 2
D95: Vplyv prostredia | N95: =ROUND(N87*T95,2) -> 0 | U95: znížená | AY95: VRN | BE95: =IF(U95="základná",N95,0) -> 0 | BF95: =IF(U95="znížená",N95,0) -> 0 | BG95: =IF(U95="zákl. prenesená",N95,0) -> 0 | BH95: =IF(U95="zníž. prenesená",N95,0) -> 0 | BI95: =IF(U95="nulová",N95,0) -> 0 | BJ95: 2
D96: Iné VRN | N96: =ROUND(N87*T96,2) -> 0 | U96: znížená | AY96: VRN | BE96: =IF(U96="základná",N96,0) -> 0 | BF96: =IF(U96="znížená",N96,0) -> 0 | BG96: =IF(U96="zákl. prenesená",N96,0) -> 0 | BH96: =IF(U96="zníž. prenesená",N96,0) -> 0 | BI96: =IF(U96="nulová",N96,0) -> 0 | BJ96: 2
D97: Kompletačná činnosť | N97: =ROUND(N87*T97,2) -> 0 | U97: znížená | AY97: KOMPLETACNA | BE97: =IF(U97="základná",N97,0) -> 0 | BF97: =IF(U97="znížená",N97,0) -> 0 | BG97: =IF(U97="zákl. prenesená",N97,0) -> 0 | BH97: =IF(U97="zníž. prenesená",N97,0) -> 0 | BI97: =IF(U97="nulová",N97,0) -> 0 | BJ97: 2
C99: Celkové náklady za stavbu 1) + 2) | L99: =ROUND(SUM(N87+N91),2) -> 0
C105: ROZPOČET
C107: Stavba: | F107: =F6 -> „Odstránenie nezákonne umiestneného komunálneho odpadu”
C109: Miesto: | F109: =F8 | K109: Dátum: | M109: =IF(O8="","",O8) -> 4. 6. 2018
C111: Objednávateľ: | F111: =E11 -> Obec Slavošovce | K111: Projektant: | M111: =E17
C112: Zhotoviteľ: | F112: =IF(E14="","",E14) -> Vyplň údaj | K112: Spracovateľ: | M112: =E20
C114: PČ | D114: Typ | E114: Kód | F114: Popis | J114: MJ | K114: Množstvo | L114: J.cena [EUR] | N114: Cena celkom [EUR] | T114: Poznámka | U114: DPH | V114: J. Nh [h] | W114: Nh celkom [h] | X114: J. hmotnosť_x000D_ [t] | Y114: Hmotnosť_x000D_ celkom [t] | Z114: J. suť [t] | AA114: Suť Celkom [t]
C115: Náklady z rozpočtu | N115: =BK115 -> 0 | W115: =W116+W123 -> 0 | Y115: =Y116+Y123 -> 40539888 | AA115: =AA116+AA123 -> 0 | AT115: D | AU115: -1 | BK115: =BK116+BK123 -> 0
D116: D1 - Práce na sanácii nelegálnej skládky | N116: =BK116 -> 0 | W116: =SUM(W117:W122) -> 0 | Y116: =SUM(Y117:Y122) -> 40539888 | AA116: =SUM(AA117:AA122) -> 0 | AR116: 1 | AT116: D | AU116: 0 | AY116: ROZPOCET | BK116: =SUM(BK117:BK122) -> 0
C117: 1 | D117: K | E117: Pol1 | F117: Zber a nakladanie odpadu na dopravný prostriedok | J117: t | K117: 568 | L117: 0 | N117: =ROUND(L117*K117,2) -> 0 | U117: znížená | W117: =V117*K117 -> 0 | X117: 23316.4 | Y117: =X117*K117 -> 13243715 | Z117: 0 | AA117: =Z117*K117 -> 0 | AR117: 262144 | AT117: K | AU117: 1 | AY117: ROZPOCET | BE117: =IF(U117="základná",N117,0) -> 0 | BF117: =IF(U117="znížená",N117,0) -> 0 | BG117: =IF(U117="zákl. prenesená",N117,0) -> 0 | BH117: =IF(U117="zníž. prenesená",N117,0) -> 0 | BI117: =IF(U117="nulová",N117,0) -> 0 | BJ117: 2 | BK117: =ROUND(L117*K117,2) -> 0 | BL117: 262144 | BM117: 56953323
C118: 2 | D118: K | E118: Pol2 | F118: Odvoz odpadu na skládku do 1 km | J118: t | K118: 568 | L118: 0 | N118: =ROUND(L118*K118,2) -> 0 | U118: znížená | W118: =V118*K118 -> 0 | X118: 8508.64 | Y118: =X118*K118 -> 4832907.5 | Z118: 0 | AA118: =Z118*K118 -> 0 | AR118: 4 | AT118: K | AU118: 1 | AY118: ROZPOCET | BE118: =IF(U118="základná",N118,0) -> 0 | BF118: =IF(U118="znížená",N118,0) -> 0 | BG118: =IF(U118="zákl. prenesená",N118,0) -> 0 | BH118: =IF(U118="zníž. prenesená",N118,0) -> 0 | BI118: =IF(U118="nulová",N118,0) -> 0 | BJ118: 2 | BK118: =ROUND(L118*K118,2) -> 0 | BL118: 4 | BM118: -1961415173
C119: 3 | D119: K | E119: Pol3 | F119: Odvoz odpadu na skládku za každý další 1 km | J119: t | K119: 568 | L119: 0 | N119: =ROUND(L119*K119,2) -> 0 | U119: znížená | W119: =V119*K119 -> 0 | X119: 7128.4 | Y119: =X119*K119 -> 4048931.2 | Z119: 0 | AA119: =Z119*K119 -> 0 | AR119: 4 | AT119: K | AU119: 1 | AY119: ROZPOCET | BE119: =IF(U119="základná",N119,0) -> 0 | BF119: =IF(U119="znížená",N119,0) -> 0 | BG119: =IF(U119="zákl. prenesená",N119,0) -> 0 | BH119: =IF(U119="zníž. prenesená",N119,0) -> 0 | BI119: =IF(U119="nulová",N119,0) -> 0 | BJ119: 2 | BK119: =ROUND(L119*K119,2) -> 0 | BL119: 4 | BM119: -1074470775
C120: 4 | D120: K | E120: Pol4 | F120: Poplatok za uloženie odpadu na skládke odpadu | J120: t | K120: 568 | L120: 0 | N120: =ROUND(L120*K120,2) -> 0 | U120: znížená | W120: =V120*K120 -> 0 | X120: 30041.52 | Y120: =X120*K120 -> 17063583 | Z120: 0 | AA120: =Z120*K120 -> 0 | AR120: 4 | AT120: K | AU120: 1 | AY120: ROZPOCET | BE120: =IF(U120="základná",N120,0) -> 0 | BF120: =IF(U120="znížená",N120,0) -> 0 | BG120: =IF(U120="zákl. prenesená",N120,0) -> 0 | BH120: =IF(U120="zníž. prenesená",N120,0) -> 0 | BI120: =IF(U120="nulová",N120,0) -> 0 | BJ120: 2 | BK120: =ROUND(L120*K120,2) -> 0 | BL120: 4 | BM120: -1498301684
C121: 5 | D121: K | E121: Pol5 | F121: Navážka ornice s dopravou do 20 km | J121: t | K121: 60 | L121: 0 | N121: =ROUND(L121*K121,2) -> 0 | U121: znížená | W121: =V121*K121 -> 0 | X121: 1813.2 | Y121: =X121*K121 -> 108792 | Z121: 0 | AA121: =Z121*K121 -> 0 | AR121: 4 | AT121: K | AU121: 1 | AY121: ROZPOCET | BE121: =IF(U121="základná",N121,0) -> 0 | BF121: =IF(U121="znížená",N121,0) -> 0 | BG121: =IF(U121="zákl. prenesená",N121,0) -> 0 | BH121: =IF(U121="zníž. prenesená",N121,0) -> 0 | BI121: =IF(U121="nulová",N121,0) -> 0 | BJ121: 2 | BK121: =ROUND(L121*K121,2) -> 0 | BL121: 4 | BM121: 1872324432
C122: 6 | D122: K | E122: Pol6 | F122: Úprava terénu a zatrávnenie | J122: m2 | K122: 395 | L122: 0 | N122: =ROUND(L122*K122,2) -> 0 | U122: znížená | W122: =V122*K122 -> 0 | X122: 3144.2 | Y122: =X122*K122 -> 1241959 | Z122: 0 | AA122: =Z122*K122 -> 0 | AR122: 4 | AT122: K | AU122: 1 | AY122: ROZPOCET | BE122: =IF(U122="základná",N122,0) -> 0 | BF122: =IF(U122="znížená",N122,0) -> 0 | BG122: =IF(U122="zákl. prenesená",N122,0) -> 0 | BH122: =IF(U122="zníž. prenesená",N122,0) -> 0 | BI122: =IF(U122="nulová",N122,0) -> 0 | BJ122: 2 | BK122: =ROUND(L122*K122,2) -> 0 | BL122: 4 | BM122: -557310692
D123: VP - Práce naviac | N123: =BK123 -> 0 | AT123: D | AU123: 0 | AY123: PN | BK123: =SUM(BK124:BK128) -> 0
D124: K | N124: =BK124 -> 0 | U124: znížená | AT124: PN | AU124: 1 | AY124: PN | BE124: =IF(U124="základná",N124,0) -> 0 | BF124: =IF(U124="znížená",N124,0) -> 0 | BG124: =IF(U124="zákl. prenesená",N124,0) -> 0 | BH124: =IF(U124="zníž. prenesená",N124,0) -> 0 | BI124: =IF(U124="nulová",N124,0) -> 0 | BJ124: 2 | BK124: =L124*K124 -> 0
D125: K | N125: =BK125 -> 0 | U125: znížená | AT125: PN | AU125: 1 | AY125: PN | BE125: =IF(U125="základná",N125,0) -> 0 | BF125: =IF(U125="znížená",N125,0) -> 0 | BG125: =IF(U125="zákl. prenesená",N125,0) -> 0 | BH125: =IF(U125="zníž. prenesená",N125,0) -> 0 | BI125: =IF(U125="nulová",N125,0) -> 0 | BJ125: 2 | BK125: =L125*K125 -> 0
D126: K | N126: =BK126 -> 0 | U126: znížená | AT126: PN | AU126: 1 | AY126: PN | BE126: =IF(U126="základná",N126,0) -> 0 | BF126: =IF(U126="znížená",N126,0) -> 0 | BG126: =IF(U126="zákl. prenesená",N126,0) -> 0 | BH126: =IF(U126="zníž. prenesená",N126,0) -> 0 | BI126: =IF(U126="nulová",N126,0) -> 0 | BJ126: 2 | BK126: =L126*K126 -> 0
D127: K | N127: =BK127 -> 0 | U127: znížená | AT127: PN | AU127: 1 | AY127: PN | BE127: =IF(U127="základná",N127,0) -> 0 | BF127: =IF(U127="znížená",N127,0) -> 0 | BG127: =IF(U127="zákl. prenesená",N127,0) -> 0 | BH127: =IF(U127="zníž. prenesená",N127,0) -> 0 | BI127: =IF(U127="nulová",N127,0) -> 0 | BJ127: 2 | BK127: =L127*K127 -> 0
D128: K | N128: =BK128 -> 0 | U128: znížená | AT128: PN | AU128: 1 | AY128: PN | BE128: =IF(U128="základná",N128,0) -> 0 | BF128: =IF(U128="znížená",N128,0) -> 0 | BG128: =IF(U128="zákl. prenesená",N128,0) -> 0 | BH128: =IF(U128="zníž. prenesená",N128,0) -> 0 | BI128: =IF(U128="nulová",N128,0) -> 0 | BJ128: 2 | BK128: =L128*K128 -> 0
